BEGIN:VCALENDAR
VERSION:2.0
PRODID:-//CSN Collision - ECPv6.15.20//NONSGML v1.0//EN
CALSCALE:GREGORIAN
METHOD:PUBLISH
X-WR-CALNAME:CSN Collision
X-ORIGINAL-URL:https://csncollision.com
X-WR-CALDESC:Events for CSN Collision
REFRESH-INTERVAL;VALUE=DURATION:PT1H
X-Robots-Tag:noindex
X-PUBLISHED-TTL:PT1H
BEGIN:VTIMEZONE
TZID:America/Toronto
BEGIN:DAYLIGHT
TZOFFSETFROM:-0500
TZOFFSETTO:-0400
TZNAME:EDT
DTSTART:20250309T070000
END:DAYLIGHT
BEGIN:STANDARD
TZOFFSETFROM:-0400
TZOFFSETTO:-0500
TZNAME:EST
DTSTART:20251102T060000
END:STANDARD
BEGIN:DAYLIGHT
TZOFFSETFROM:-0500
TZOFFSETTO:-0400
TZNAME:EDT
DTSTART:20260308T070000
END:DAYLIGHT
BEGIN:STANDARD
TZOFFSETFROM:-0400
TZOFFSETTO:-0500
TZNAME:EST
DTSTART:20261101T060000
END:STANDARD
BEGIN:DAYLIGHT
TZOFFSETFROM:-0500
TZOFFSETTO:-0400
TZNAME:EDT
DTSTART:20270314T070000
END:DAYLIGHT
BEGIN:STANDARD
TZOFFSETFROM:-0400
TZOFFSETTO:-0500
TZNAME:EST
DTSTART:20271107T060000
END:STANDARD
END:VTIMEZONE
BEGIN:VEVENT
DTSTART;VALUE=DATE:20260511
DTEND;VALUE=DATE:20260515
DTSTAMP:20260422T165541
CREATED:20260220T203144Z
LAST-MODIFIED:20260220T203144Z
UID:10000370-1778457600-1778803199@csncollision.com
SUMMARY:CCC Conference (Palm Springs\, CA)
DESCRIPTION:
URL:https://csncollision.com/event/ccc-conference-palm-springs-ca/
CATEGORIES:Industry Event
END:VEVENT
BEGIN:VEVENT
DTSTART;VALUE=DATE:20260513
DTEND;VALUE=DATE:20260514
DTSTAMP:20260422T165541
CREATED:20260220T203020Z
LAST-MODIFIED:20260220T203020Z
UID:10000367-1778630400-1778716799@csncollision.com
SUMMARY:Eastern Ontario Regional Meeting
DESCRIPTION:
URL:https://csncollision.com/event/eastern-ontario-regional-meeting/
CATEGORIES:CSN Collision Event
END:VEVENT
BEGIN:VEVENT
DTSTART;VALUE=DATE:20260516
DTEND;VALUE=DATE:20260519
DTSTAMP:20260422T165542
CREATED:20260220T203920Z
LAST-MODIFIED:20260220T203920Z
UID:10000373-1778889600-1779148799@csncollision.com
SUMMARY:IBIS Global (Vienna\, Austria)
DESCRIPTION:
URL:https://csncollision.com/event/ibis-global-vienna-austria/
CATEGORIES:Industry Event
END:VEVENT
BEGIN:VEVENT
DTSTART;VALUE=DATE:20260517
DTEND;VALUE=DATE:20260518
DTSTAMP:20260422T165542
CREATED:20260220T203948Z
LAST-MODIFIED:20260220T203948Z
UID:10000374-1778976000-1779062399@csncollision.com
SUMMARY:ARA of Canada Conference & Gala (Granite Ridge Golf Club\, Milton\, ON)
DESCRIPTION:
URL:https://csncollision.com/event/ara-of-canada-conference-gala-granite-ridge-golf-club-milton-on/
CATEGORIES:Industry Event
END:VEVENT
END:VCALENDAR