BEGIN:VCALENDAR
VERSION:2.0
PRODID:-//CSN Collision - ECPv6.15.20//NONSGML v1.0//EN
CALSCALE:GREGORIAN
METHOD:PUBLISH
X-WR-CALNAME:CSN Collision
X-ORIGINAL-URL:https://csncollision.com
X-WR-CALDESC:Events for CSN Collision
REFRESH-INTERVAL;VALUE=DURATION:PT1H
X-Robots-Tag:noindex
X-PUBLISHED-TTL:PT1H
BEGIN:VTIMEZONE
TZID:America/Toronto
BEGIN:DAYLIGHT
TZOFFSETFROM:-0500
TZOFFSETTO:-0400
TZNAME:EDT
DTSTART:20240310T070000
END:DAYLIGHT
BEGIN:STANDARD
TZOFFSETFROM:-0400
TZOFFSETTO:-0500
TZNAME:EST
DTSTART:20241103T060000
END:STANDARD
BEGIN:DAYLIGHT
TZOFFSETFROM:-0500
TZOFFSETTO:-0400
TZNAME:EDT
DTSTART:20250309T070000
END:DAYLIGHT
BEGIN:STANDARD
TZOFFSETFROM:-0400
TZOFFSETTO:-0500
TZNAME:EST
DTSTART:20251102T060000
END:STANDARD
BEGIN:DAYLIGHT
TZOFFSETFROM:-0500
TZOFFSETTO:-0400
TZNAME:EDT
DTSTART:20260308T070000
END:DAYLIGHT
BEGIN:STANDARD
TZOFFSETFROM:-0400
TZOFFSETTO:-0500
TZNAME:EST
DTSTART:20261101T060000
END:STANDARD
END:VTIMEZONE
BEGIN:VEVENT
DTSTART;VALUE=DATE:20250219
DTEND;VALUE=DATE:20250223
DTSTAMP:20260421T073421
CREATED:20250121T174457Z
LAST-MODIFIED:20250121T174457Z
UID:10000271-1739923200-1740268799@csncollision.com
SUMMARY:CSN Conference
DESCRIPTION:Reserve your hotel room now at the Omni Rancho Las Palmas Resort & Spa! You can also book your hotel room by calling 1-800-THE-OMNI (1800-843-6664) and using the group code: 02172025CSNCOLL. Arrive anytime on Wednesday\, February 19th\, 2025\, as activities commence at 9am on Thursday\, February 20th\, 2025. \nRegister for workshops: \n\nThe Future of the Collision Industry\nFinancial Success\nCREF Insights\nOEM Updates\nEffective Negotiations\n\nRegister now to golf on the beautiful green of the Omni Hotel! \n\nCost: $120 USD per person\nDate: Friday\, February 21st at 12:30pm\nEnjoy a round of golf at one of the courses on the grounds of the hotel\, a great way to unwind and enjoy the desert landscape.\n\nThe golf course is just a 5-minute golf cart ride from the hotel. Boxed lunches will be provided at the hotel. Please note that only 40 sets of golf clubs are available for rent. To ensure priority access\, the first 40 participants to express interest in renting clubs will secure their rental. Please note that rentals will come at an extra cost. Be sure to complete your registration now!
URL:https://csncollision.com/event/csn-conference/
LOCATION:Omni Rancho Las Palmas Resort & Spa\, 41000 Bob Hope Drive Rancho Mirage\, Palm Springs\, CA\, 92270\, United States
END:VEVENT
END:VCALENDAR